BEGIN:VCALENDAR
VERSION:2.0
PRODID:-//Festival Essentials - ECPv6.15.20//NONSGML v1.0//EN
CALSCALE:GREGORIAN
METHOD:PUBLISH
X-WR-CALNAME:Festival Essentials
X-ORIGINAL-URL:https://festivalessentials.uk
X-WR-CALDESC:Events for Festival Essentials
REFRESH-INTERVAL;VALUE=DURATION:PT1H
X-Robots-Tag:noindex
X-PUBLISHED-TTL:PT1H
BEGIN:VTIMEZONE
TZID:UTC
BEGIN:STANDARD
TZOFFSETFROM:+0000
TZOFFSETTO:+0000
TZNAME:UTC
DTSTART:20230101T000000
END:STANDARD
END:VTIMEZONE
BEGIN:VEVENT
DTSTART;VALUE=DATE:20240821
DTEND;VALUE=DATE:20240826
DTSTAMP:20260419T150155
CREATED:20240104T205736Z
LAST-MODIFIED:20240104T215752Z
UID:1722-1724198400-1724630399@festivalessentials.uk
SUMMARY:Leeds Festival 2024
DESCRIPTION:LEEDS FESTIVAL 2024 LINE-UP\nLana Del Rey\, Fred Again\, Blink 182\, Catfish & The Bottlemen\, Liam Gallagher\, Gerry Cinnamon\, Skrillex\, Raye\, Digga D\, Spiritbox + more TBA \nLEEDS FESTIVAL 2024 DETAILS\nAlright\, gear up for the ultimate sonic adventure at Leeds Festival 2024! Brace yourselves\, music mavens\, party enthusiasts\, and those in pursuit of an epic time! This annual extravaganza unfolds over the August bank holiday weekend at the enchanting Bramham Park\, transforming into a colossal outdoor celebration that welcomes throngs of music aficionados. \nPicture this: a multitude of stages pulsating with an eclectic array of musical genres\, from the electrifying beats of rock and alternative to the rhythmic vibes of hip-hop and electronic sounds. Previous headliners\, including the likes of Arctic Monkeys\, Foo Fighters\, and Eminem\, have set the bar high\, and the anticipation is palpable as we await the revelation of the next stellar lineup. \nYet\, Leeds Festival isn’t merely a symphony of melodies; it’s a multifaceted experience. Amidst the sonic waves\, you’ll encounter uproarious comedy acts\, tantalizing food and drink vendors\, and for the intrepid souls\, expansive camping areas where you can pitch your tent and revel in an uninterrupted weekend-long fiesta. \nThe Leeds Festival legacy traces back to 1999\, born as the “Carling Weekend: Reading and Leeds Festivals.” Now\, it stands as two distinct events\, with Leeds Festival claiming its vibrant spot at Bramham Park while Reading Festival commands Richfield Avenue. \nBut\, dear festival-goers\, Leeds Festival is more than a musical mecca. It’s an artistic haven\, offering a plethora of entertainment\, from mind-bending street theatre to awe-inspiring dance performances. With diverse stages catering to every musical taste\, you’re destined to find your rhythm and move to the beat. \nAnd let’s not overlook the camping odyssey. Thousands unite\, transforming Bramham Park into a temporary city. Complete with showers\, toilets\, and charging stations\, your camping experience promises comfort amid the vibrant chaos. \nYet\, the true magic of Leeds Festival lies in its atmosphere. Revelers converge from all corners of the globe\, creating an electric energy that permeates every corner. Whether you’re front-row at the main stage or uncovering hidden gems in the smaller tents\, you’ll be surrounded by kindred spirits who share your fervor for music. \nSo\, if a weekend of ceaseless revelry is on your radar\, secure your tickets for Leeds Festival 2024. With delectable food options\, seamless access via public transport\, and a dedication to sustainability\, this event is poised to etch indelible memories into your soul. And who knows? Your next musical obsession might just serenade you under the Leeds Festival skies. See you at the heart of the sonic spectacle – Leeds Fest! \n\n  \nBuy Leeds Fest 2024 Tickets Below\n \n  \nHOTELS AND ACCOMODATION NEARBY\n  \n \n  \n  \nSign up with TOPCASHBACK and earn up to 10% cashback on your tickets and accomodation and a £10 sign up bonus. It’s free and simple to join.
URL:https://festivalessentials.uk/event/leeds-festival-2024/
LOCATION:Leeds Fest\, Bramham Park\, Leeds
CATEGORIES:Dance Music,Family,funk,Garage,Music,Pop,Rap,Rock,Soul,tribute
ATTACH;FMTTYPE=image/png:https://festivalessentials.uk/wp-content/uploads/2024/01/LEEDS-FESTIVAL-2024-HEADER.png
ORGANIZER;CN="Leeds Festival":MAILTO:info@leedsfestival.com
END:VEVENT
END:VCALENDAR