BEGIN:VCALENDAR
VERSION:2.0
PRODID:-//Festival Essentials - ECPv6.15.20//NONSGML v1.0//EN
CALSCALE:GREGORIAN
METHOD:PUBLISH
X-WR-CALNAME:Festival Essentials
X-ORIGINAL-URL:https://festivalessentials.uk
X-WR-CALDESC:Events for Festival Essentials
REFRESH-INTERVAL;VALUE=DURATION:PT1H
X-Robots-Tag:noindex
X-PUBLISHED-TTL:PT1H
BEGIN:VTIMEZONE
TZID:UTC
BEGIN:STANDARD
TZOFFSETFROM:+0000
TZOFFSETTO:+0000
TZNAME:UTC
DTSTART:20220101T000000
END:STANDARD
END:VTIMEZONE
BEGIN:VEVENT
DTSTART;VALUE=DATE:20240815
DTEND;VALUE=DATE:20240819
DTSTAMP:20260420T082644
CREATED:20240104T233333Z
LAST-MODIFIED:20240104T233638Z
UID:1754-1723680000-1724025599@festivalessentials.uk
SUMMARY:Camp Bestival 2024
DESCRIPTION:CAMP BESTIVAL 2024 LINE-UP\nTBA \nCAMP BESTIVAL 2024 EVENT INFO\nCamp Bestival is an annual family-friendly music festival that takes place at Lulworth Castle in Dorset\, UK. The festival features a diverse lineup of music\, comedy\, and entertainment acts\, as well as a range of activities and workshops for all ages. \nThe festival was first held in 2008 and has since become one of the most popular family-friendly festivals in the UK\, attracting a large and dedicated following of music and entertainment fans. The festival has hosted a range of well-known acts over the years\, including Madness\, Fatboy Slim\, and Jess Glynne\, as well as showcasing emerging talent in the music scene. \nIn addition to the music\, Camp Bestival also features a variety of family-friendly activities and workshops\, including arts and crafts\, circus skills\, and science experiments. There are also food and drink options\, merchandise stalls\, and a family campsite\, making the festival a great weekend getaway for families. \nThe festival takes place in the beautiful setting of Lulworth Castle\, a stunning 17th-century castle set in the rolling hills of Dorset\, and has a relaxed and friendly atmosphere. The festival is known for its family-friendly vibe\, with plenty of activities for children and families to enjoy. \nCamp Bestival is a great festival for families\, offering a diverse lineup of music and entertainment and a range of fun and educational activities for all ages. It’s also an excellent opportunity to explore the beautiful countryside of Dorset and the historic Lulworth Castle. \n  \nBUY CAMP BESTIVAL 2024 TICKETS BELOW\n  \n \n  \nNEARBY ACCOMODATION\n \nClaim up to 11% cashback on tickets and accomodation with TOPCASHBACK. Simply click the link below and if you haven’t signed up already you can receive a £10 bonus also. \n \n 
URL:https://festivalessentials.uk/event/camp-bestival-2024/
LOCATION:Camp bestival\, Weston Park\, Weston-under-lizard
CATEGORIES:Activities,Dance Music,Family,funk,indie,Jazz,Music,Pop,Reggae,RnB,Soul
ATTACH;FMTTYPE=image/jpeg:https://festivalessentials.uk/wp-content/uploads/2024/01/camp-bestival-2024-header.jpg
ORGANIZER;CN="Camp Bestival":MAILTO:info@campbestival.net
END:VEVENT
BEGIN:VEVENT
DTSTART;VALUE=DATE:20240526
DTEND;VALUE=DATE:20240529
DTSTAMP:20260420T082644
CREATED:20240106T180536Z
LAST-MODIFIED:20240106T183416Z
UID:1769-1716681600-1716940799@festivalessentials.uk
SUMMARY:In It Together Festival 2024
DESCRIPTION:IN IT TOGETHER 2024 LINE UP\nRag ‘n Bone Man\, Sugababes\, Dizzee Rascal\, Cat Burns\, Cian Ducrot\, Craig David\, Billy Ocean\, Blue\, Razorlight\, Sam Ryder + Many more! \nIN IT TOGETHER 2024 EVENT INFO\nPrepare to groove and sway at the upcoming musical extravaganza unfolding in the scenic Old Farm Park. This festival is gearing up to magnetize maestros from the realms of indie\, pop\, and rock\, ensuring a weekend brimming with dynamic live performances\, artistic expression\, and cultural immersion. Yet\, that’s just the tip of the iceberg\, as the event boasts a dedicated Blast-from-the-Past Pavilion for aficionados of 90s/00s classics\, Panchaia Meadows for aficionados of tech house\, disco\, and bass beats\, and even a specially carved-out zone for families with little ones. \n\nBeyond the beats and entertainment\, attendees can discover a haven for repose and rejuvenation at The Sanctuary. Here\, you can decompress and revitalize with activities ranging from yoga sessions and meditation to massages and even reiki workshops. With such a diverse array of offerings\, this festival pledges an indelible experience for all\, whether you’re a fervent music enthusiast or someone seeking a weekend filled with leisure and enjoyment. \nBUY IN IT TOGETHER TICKETS HERE\n \n\nNEARBY ACCOMODATION\n \nClaim up to 11% cashback on tickets and accomodation with TOPCASHBACK. Simply click the link below and if you haven’t signed up already you can receive a £10 bonus also. \n \n 
URL:https://festivalessentials.uk/event/in-it-together-festival-2024/
LOCATION:In it together\, SA13 2TG
CATEGORIES:Dance Music,indie,Music
ATTACH;FMTTYPE=image/png:https://festivalessentials.uk/wp-content/uploads/2024/01/Inittogether-2024.png
ORGANIZER;CN="In It Together":MAILTO:info@inittogetherfestival.com
END:VEVENT
BEGIN:VEVENT
DTSTART;VALUE=DATE:20240523
DTEND;VALUE=DATE:20240527
DTSTAMP:20260420T082644
CREATED:20240104T142047Z
LAST-MODIFIED:20240104T144307Z
UID:1698-1716422400-1716767999@festivalessentials.uk
SUMMARY:Shindig Festival 2024
DESCRIPTION:Shindig Festival 2024 Line Up\nTBC \nAbout Shindig Festival 2024\nCelebrating a decade of Shindig Festival in 2024! A nostalgic journey awaits as we reflect on the incredible moments that shaped our story. For our 10th anniversary\, we’re embarking on a daring adventure\, revisiting the intimate vibe we all cherished – a reunion of friends and friends of friends. \nDrawing upon a decade of knowledge and experience\, we’re set to weave a new chapter in the Shindig tale\, crafting an even more enchanting experience. It’s a return to our roots\, a celebration of the essence that made Shindig extraordinary from the start. \nJoin us on this extraordinary edition of our adventure\, where we’ll blend the familiar with the innovative\, creating magic that transcends time. As Emily Eavis\, Glastonbury Festival Organiser\, recommends\, “If you are looking for another lovely local festival\, this one comes recommended… Shindig Festival.” \nSave the dates – Shindig Festival 2024 unfolds from Thursday\, 23rd May to Sunday\, 26th May 2024\, hosted at the picturesque Dillington Estate in Illminster. Let’s make this anniversary celebration a milestone in the chronicles of Shindig! \n\n  \nBuy Your Shindig Tickets Here
URL:https://festivalessentials.uk/event/shindig-festival-2024/
LOCATION:Dillington Estate\, Whitelackington\, Illminster\, TA19 9EG\, United Kingdom
CATEGORIES:Dance Music,Folk Festival,indie,Music
ATTACH;FMTTYPE=image/png:https://festivalessentials.uk/wp-content/uploads/2024/01/Shindig-Festival-2024-main-header.png
ORGANIZER;CN="Shindig Festivals":MAILTO:info@shindigfestival.co.uk
END:VEVENT
BEGIN:VEVENT
DTSTART;VALUE=DATE:20230727
DTEND;VALUE=DATE:20230731
DTSTAMP:20260420T082644
CREATED:20230315T160458Z
LAST-MODIFIED:20230405T141229Z
UID:678-1690416000-1690761599@festivalessentials.uk
SUMMARY:Camp Bestival 2023
DESCRIPTION:Camp Bestival is an annual family-friendly music festival that takes place at Lulworth Castle in Dorset\, UK. The festival features a diverse lineup of music\, comedy\, and entertainment acts\, as well as a range of activities and workshops for all ages. \nThe festival was first held in 2008 and has since become one of the most popular family-friendly festivals in the UK\, attracting a large and dedicated following of music and entertainment fans. The festival has hosted a range of well-known acts over the years\, including Madness\, Fatboy Slim\, and Jess Glynne\, as well as showcasing emerging talent in the music scene. \nIn addition to the music\, Camp Bestival also features a variety of family-friendly activities and workshops\, including arts and crafts\, circus skills\, and science experiments. There are also food and drink options\, merchandise stalls\, and a family campsite\, making the festival a great weekend getaway for families. \nThe festival takes place in the beautiful setting of Lulworth Castle\, a stunning 17th-century castle set in the rolling hills of Dorset\, and has a relaxed and friendly atmosphere. The festival is known for its family-friendly vibe\, with plenty of activities for children and families to enjoy. \nCamp Bestival is a great festival for families\, offering a diverse lineup of music and entertainment and a range of fun and educational activities for all ages. It’s also an excellent opportunity to explore the beautiful countryside of Dorset and the historic Lulworth Castle. \n  \nBuy Camp Bestival Tickets Below
URL:https://festivalessentials.uk/event/camp-bestival-2023/
LOCATION:Camp bestival\, Weston Park\, Weston-under-lizard
CATEGORIES:Activities,Dance Music,Family,funk,indie,Jazz,Music,Pop,Reggae,RnB,Soul
ATTACH;FMTTYPE=image/jpeg:https://festivalessentials.uk/wp-content/uploads/2023/03/Camp-Bestival-2023-line-up.jpg
END:VEVENT
BEGIN:VEVENT
DTSTART;VALUE=DATE:20230714
DTEND;VALUE=DATE:20230717
DTSTAMP:20260420T082644
CREATED:20230316T143447Z
LAST-MODIFIED:20230323T085932Z
UID:817-1689292800-1689551999@festivalessentials.uk
SUMMARY:The Big Love Festival 2023
DESCRIPTION:The Big Love Festival is an annual music and arts festival held at Cwm Cayo Farm in Wales. The festival was first launched in 2012 and has since become a popular event for music and art lovers. \nThe festival features a diverse range of music genres\, including world music\, folk\, electronic\, and indie rock. In addition to music\, the festival also includes a wide range of art and performance activities\, such as workshops\, theater\, dance\, and spoken word. \nThe festival is known for its eco-friendly and sustainable ethos\, with a focus on reducing waste and promoting environmental responsibility. Attendees are encouraged to bring their own reusable water bottles and camping equipment\, and the festival provides composting and recycling facilities. \nOverall\, the Big Love Festival is a celebration of music\, art\, and community\, with a commitment to sustainability and environmental responsibility. \nBuy Your Big Love Festival Tickets Here
URL:https://festivalessentials.uk/event/the-big-love-festival-2023/
LOCATION:Big Love Festival\, Cwm Cayo Farm\, Gwehelog\, NP15 1HS\, United Kingdom
CATEGORIES:Activities,Dance Music,Family,funk,indie,Music,Pop,Rock,Soul
ATTACH;FMTTYPE=image/webp:https://festivalessentials.uk/wp-content/uploads/2023/03/Big-Love-Festivsl-Line-up-2023.webp
END:VEVENT
BEGIN:VEVENT
DTSTART;VALUE=DATE:20230714
DTEND;VALUE=DATE:20230715
DTSTAMP:20260420T082644
CREATED:20230316T142511Z
LAST-MODIFIED:20230323T090111Z
UID:813-1689292800-1689379199@festivalessentials.uk
SUMMARY:Party at the Park Newport 2023
DESCRIPTION:Get ready to relive some ultimate classics at the one-day festival in Newport featuring 80s\, 90s\, and 00s tunes. \nThe event promises to be the biggest yet for Party at the Park\, with acts such as Blue and Peter Andre already announced. To avoid missing out\, secure your tickets for the 2023 edition of the festival now. \nBook Your Party in the Park Tickets Below\n \nTo buy tickets for this event please visit the events page: Boogietown 2023 tickets from Skiddle. \n \nTicket sales from Skiddle.com
URL:https://festivalessentials.uk/event/party-at-the-park-newport-2023/
LOCATION:Party in the Park Newport\, Tredegar Park\, Newport
CATEGORIES:Activities,Dance Music,Family,indie,Music,Pop
ATTACH;FMTTYPE=image/png:https://festivalessentials.uk/wp-content/uploads/2023/03/Party-in-the-Park-Newport-2023-line-up.png
END:VEVENT
BEGIN:VEVENT
DTSTART;VALUE=DATE:20230707
DTEND;VALUE=DATE:20230710
DTSTAMP:20260420T082644
CREATED:20230316T134326Z
LAST-MODIFIED:20230324T094308Z
UID:805-1688688000-1688947199@festivalessentials.uk
SUMMARY:TRNSMT 2023
DESCRIPTION:TRNSMT is a popular music festival held annually in Glasgow\, Scotland. The festival was first held in 2017 and has quickly become one of the largest music events in Scotland. It typically takes place over three days in July and features a range of music genres\, including indie rock\, electronic dance music\, and hip hop. \nTRNSMT has featured many notable artists since its inception\, including Arctic Monkeys\, Radiohead\, Liam Gallagher\, Stormzy\, and The Killers. In addition to live music performances\, the festival also features food and drink vendors\, an outdoor cinema\, and other activities. \nThe festival is held at Glasgow Green\, a large park in the city center that can accommodate up to 50\,000 people. TRNSMT has received praise for its commitment to sustainability\, with efforts made to reduce waste and carbon emissions. \nTRNSMT has become a major cultural event in Scotland\, drawing visitors from around the UK and beyond. It has been praised for its diverse lineups and contributions to the local economy\, as well as its support for emerging artists. \n \nBUY YOUR TRNSMT TICKETS BELOW\n 
URL:https://festivalessentials.uk/event/trnsmt-2023/
LOCATION:TRNSMT\, Glagow Green\, Glasgow\, G1 5DB
CATEGORIES:Activities,Family,funk,indie,Music,Pop,Soul
ATTACH;FMTTYPE=image/png:https://festivalessentials.uk/wp-content/uploads/2023/03/TRNSMT-2023-line-up.png
END:VEVENT
BEGIN:VEVENT
DTSTART;VALUE=DATE:20230630
DTEND;VALUE=DATE:20230702
DTSTAMP:20260420T082644
CREATED:20230316T124419Z
LAST-MODIFIED:20230323T111328Z
UID:788-1688083200-1688255999@festivalessentials.uk
SUMMARY:AlderFest 2023
DESCRIPTION:Looking for a fun day out for the whole family this summer? Look no further than AlderFest 2023! Join us for a jam-packed day of entertainment\, including an incredible line-up of live music and performances that will have you dancing the night away. \nBut that’s not all – we have a whole host of activities planned for the entire family. Kids will love our dedicated play area with bouncy castles\, face painting\, and more. There will also be food and drink stalls serving up delicious treats and refreshing beverages to keep you energized all day long. \nAnd the best part? All of this fun is taking place in the beautiful surroundings of Alder Park\, so you can soak up the sun and enjoy the great outdoors while you party. \nSo what are you waiting for? Grab your family and friends and come join us at AlderFest 2023 for a day of summer fun you won’t forget! \nBuy Your Alderfest Tickets Below
URL:https://festivalessentials.uk/event/alderfest-2023/
LOCATION:Alderfest\, Tilstock Rd\, Whitchurch\, SY13 3JQ
CATEGORIES:Dance Music,drag,Family,indie,Music,Pop
ATTACH;FMTTYPE=image/png:https://festivalessentials.uk/wp-content/uploads/2023/03/Alderfest-2023-line-up.png
END:VEVENT
BEGIN:VEVENT
DTSTART;VALUE=DATE:20230630
DTEND;VALUE=DATE:20230702
DTSTAMP:20260420T082644
CREATED:20230316T121332Z
LAST-MODIFIED:20230323T145412Z
UID:782-1688083200-1688255999@festivalessentials.uk
SUMMARY:Buzzstock Music Festival UK 2023
DESCRIPTION:Get ready for the ultimate festival experience in Leighton Buzzard with Buzzstock! Join us for two jam-packed days of top-notch entertainment featuring the UK’s best tribute acts. Come together with your community while indulging in delicious food and drink\, and enjoy great bands and classic sing-alongs to the music you know and love. \nOur festival promises a welcoming and friendly atmosphere\, and all we need is you! Mark your calendars for the 30th of June and 1st of July 2023 and get ready for an unforgettable weekend. \nFriday’s line-up at Buzzstock 2023 includes top tribute acts such as Oasish\, The Killerz\, Stereotonics\, and Wenz Day. And on Saturday\, get ready for Queen: By Flash\, Re Take That + Robbie\, Little Chix\, Rogue Minogue\, Ed Sheeran by Daniel East\, and The Fabulators. \nBut that’s not all – we have plenty of activities for children and adults alike\, as well as local artisan food and drink\, and on-site parking for your convenience. Don’t miss out on the ultimate festival experience at Buzzstock! \nBuy Your Buzzstock Festival Tickets Below
URL:https://festivalessentials.uk/event/buzzstock-music-festival-uk-2023/
LOCATION:Buzzstock Festival\, Stanbridge Road\, Leighton Buzzard\, LU7 9HL
CATEGORIES:Family,indie,Music,tribute
ATTACH;FMTTYPE=image/jpeg:https://festivalessentials.uk/wp-content/uploads/2023/03/Buzzstock-2023-line-up.jpg
END:VEVENT
BEGIN:VEVENT
DTSTART;VALUE=DATE:20230621
DTEND;VALUE=DATE:20230626
DTSTAMP:20260420T082644
CREATED:20230315T161210Z
LAST-MODIFIED:20230320T205908Z
UID:684-1687305600-1687737599@festivalessentials.uk
SUMMARY:Glastonbury Festival 2023
DESCRIPTION:Glastonbury Festival is one of the largest and most famous music festivals in the world\, taking place on Worthy Farm near the town of Glastonbury\, Somerset\, UK. The festival features a diverse lineup of music\, comedy\, arts\, and culture\, as well as a range of activities\, workshops\, and other experiences. \nThe festival was first held in 1970 and has since grown into a global phenomenon\, attracting over 200\,000 people each year from around the world. The festival has hosted a wide variety of well-known acts over the years\, including Beyoncé\, Radiohead\, Paul McCartney\, and Adele\, as well as showcasing emerging talent in the music scene. \nIn addition to the music\, Glastonbury also features a wide range of activities and experiences\, including circus performances\, art installations\, poetry readings\, workshops on sustainable living\, and much more. There are also food and drink options\, merchandise stalls\, and a massive campsite\, making the festival a multi-day extravaganza for attendees. \nThe festival takes place on a working farm in the beautiful countryside of Somerset\, and has a unique and inclusive atmosphere. The festival is known for its commitment to environmental sustainability and social justice\, and has often served as a platform for activism and social change. \nGlastonbury Festival is a once-in-a-lifetime experience for music and culture fans\, offering an unparalleled lineup of entertainment and a diverse range of activities and experiences. It’s also an opportunity to connect with like-minded individuals and explore the beautiful countryside of Somerset. \n  \nCheck Out Accommodation Near Glastonbury in June 2023\nCLICK HERE FOR BEST OFF SITE CAMPSITES\n  \n 
URL:https://festivalessentials.uk/event/glastonbury-festival-2023/
LOCATION:Glastonbuy\, Worthy Farm\, galstonbury
CATEGORIES:Activities,Dance Music,drag,Family,Folk Festival,funk,Garage,House,indie,Jazz,Music,Philosophy,Pop,rave,Reggae,RnB,Rock,Soul,tribute,Urban,world music
ATTACH;FMTTYPE=image/png:https://festivalessentials.uk/wp-content/uploads/2023/03/glastonbury-lineup-v2.png
END:VEVENT
BEGIN:VEVENT
DTSTART;VALUE=DATE:20230615
DTEND;VALUE=DATE:20230619
DTSTAMP:20260420T082644
CREATED:20230315T195033Z
LAST-MODIFIED:20230324T093920Z
UID:701-1686787200-1687132799@festivalessentials.uk
SUMMARY:Isle Of Wight Festival 2023
DESCRIPTION:The Isle of Wight Festival is an annual music festival held on the Isle of Wight\, a small island off the south coast of England. The festival has a rich history dating back to the late 1960s when it became famous for hosting iconic performances by legendary musicians such as Jimi Hendrix\, The Who\, and Bob Dylan. \nSince then\, the festival has evolved to become one of the UK’s premier music festivals\, attracting top acts from around the world. The festival typically takes place in June and features multiple stages with a diverse lineup of rock\, pop\, indie\, and electronic music. \nIn addition to the music\, the festival offers a variety of other activities and attractions\, including food and drink vendors\, carnival rides\, and art installations. The festival also prides itself on its sustainability initiatives\, including efforts to reduce waste and promote renewable energy. \nThe Isle of Wight Festival is a must-attend event for music lovers in the UK and beyond\, offering a unique combination of world-class music and a stunning seaside setting. \n \nBuy Your Isle of Wight Festival Tickets Below\n 
URL:https://festivalessentials.uk/event/isle-of-wight-festival-2023/
LOCATION:Isle of Wight Festival\, Seaclose Park\, Newport\, United Kingdom
CATEGORIES:Activities,Dance Music,Family,funk,indie,Music,Pop,RnB,Soul
ATTACH;FMTTYPE=image/png:https://festivalessentials.uk/wp-content/uploads/2023/03/Isle-of-Wight-2023-line-up.png
END:VEVENT
BEGIN:VEVENT
DTSTART;VALUE=DATE:20230610
DTEND;VALUE=DATE:20230612
DTSTAMP:20260420T082644
CREATED:20230315T155429Z
LAST-MODIFIED:20230315T155825Z
UID:674-1686355200-1686527999@festivalessentials.uk
SUMMARY:Parklife 2023
DESCRIPTION:Parklife is an annual music festival that takes place in Heaton Park\, Manchester\, UK. The festival features a diverse lineup of electronic\, dance\, and indie music acts\, as well as a range of food and drink options and other activities. \nThe festival was first held in 2010 and has since grown in popularity\, attracting a large and dedicated following of music fans from across the UK and beyond. The festival has hosted a range of well-known acts over the years\, including The Chemical Brothers\, The XX\, and Liam Gallagher\, as well as showcasing emerging talent in the music scene. \nIn addition to the music\, Parklife also features a variety of food and drink options\, including street food vendors and craft beer stalls. There are also activities such as a fairground\, art installations\, and a VIP area\, making the festival a great day out for all ages. \nThe festival takes place in the beautiful setting of Heaton Park\, one of the largest municipal parks in Europe\, and has a lively and energetic atmosphere. The festival is known for its immersive and visually stunning stage designs\, with each stage showcasing a unique and captivating atmosphere. \nParklife is a great festival for electronic\, dance\, and indie music lovers\, offering a diverse lineup and a fun and energetic atmosphere. It’s also an excellent opportunity to explore the vibrant city of Manchester and the beautiful Heaton Park.
URL:https://festivalessentials.uk/event/parklife-2023/
LOCATION:Parklife Festival\, Heaton Park\, Manchester\, Lancashire\, United Kingdom
CATEGORIES:Activities,Dance Music,indie,Music,Pop,rave,RnB,Soul
ATTACH;FMTTYPE=image/jpeg:https://festivalessentials.uk/wp-content/uploads/2023/03/Parklife-2023-Line-up.jpg
END:VEVENT
BEGIN:VEVENT
DTSTART;VALUE=DATE:20230527
DTEND;VALUE=DATE:20230529
DTSTAMP:20260420T082644
CREATED:20230315T145155Z
LAST-MODIFIED:20230315T145155Z
UID:628-1685145600-1685318399@festivalessentials.uk
SUMMARY:Neighbourhood Weekender
DESCRIPTION:Neighbourhood Weekender is an annual music festival that takes place in Victoria Park\, Warrington\, UK. The festival features a diverse range of music\, including indie\, rock\, pop\, and alternative\, with both established and up-and-coming artists performing on multiple stages. \nThe festival was first held in 2018 and has since grown in popularity\, attracting a large and dedicated following of music fans. The festival has hosted a range of well-known acts over the years\, including George Ezra\, The Vaccines\, and Richard Ashcroft\, as well as showcasing emerging talent in the music scene. \nIn addition to the music\, Neighbourhood Weekender also features a variety of food and drink options\, as well as merchandise stalls and other activities. The festival has a lively and energetic atmosphere\, with fans enjoying the music and socializing with like-minded people. \nNeighbourhood Weekender is a great festival for music lovers\, offering a diverse lineup and a fun and inclusive atmosphere. It’s also an excellent opportunity to explore the beautiful Victoria Park and the surrounding area of Warrington.
URL:https://festivalessentials.uk/event/neighbourhood-weekender/
LOCATION:neighbourhood\, victoria park\, Warrington
CATEGORIES:Family,indie,Music
ATTACH;FMTTYPE=image/jpeg:https://festivalessentials.uk/wp-content/uploads/2023/03/neighbourhood-weekender-line-up-2023.jpg
END:VEVENT
BEGIN:VEVENT
DTSTART;VALUE=DATE:20230526
DTEND;VALUE=DATE:20230529
DTSTAMP:20260420T082644
CREATED:20230314T200505Z
LAST-MODIFIED:20230314T201042Z
UID:555-1685059200-1685318399@festivalessentials.uk
SUMMARY:In It Together Festival
DESCRIPTION:  \nGet ready to rock and roll at the upcoming music festival taking place at Old Farm Park. The festival is set to attract music legends from the indie\, pop and rock worlds\, promising a weekend packed with electrifying live performances\, art\, and culture. But that’s not all\, as the festival also features a dedicated Rewind Arena for lovers of 90s/00s classics\, Panchaia fields for tech house\, disco and bass music\, and even a special area for families with kids. \nIn addition to the music and entertainment\, festival-goers can also find a space for rest and relaxation at The Retreat. Here\, you can unwind and recharge with yoga\, meditation\, massage\, and even reiki workshops. With so much on offer\, this festival promises to be an unforgettable experience for everyone\, whether you’re a die-hard music fan or just looking for a weekend of fun and relaxation.
URL:https://festivalessentials.uk/event/in-it-together-festival/
LOCATION:In it together\, SA13 2TG
CATEGORIES:Dance Music,indie,Music
ATTACH;FMTTYPE=image/jpeg:https://festivalessentials.uk/wp-content/uploads/2023/03/In-it-together-festival-line-up.jpg
END:VEVENT
BEGIN:VEVENT
DTSTART;VALUE=DATE:20230525
DTEND;VALUE=DATE:20230529
DTSTAMP:20260420T082644
CREATED:20230313T212609Z
LAST-MODIFIED:20230321T212148Z
UID:507-1684972800-1685318399@festivalessentials.uk
SUMMARY:Shindig Festival 2023
DESCRIPTION:  \nGet ready to experience the ultimate celebration of music\, arts\, and culture at the Shindig Festival! This vibrant and exciting event is the perfect escape from the everyday routine\, providing a space to immerse yourself in a world of creativity and expression. \nWith an impressive lineup of music\, entertainment\, and activities\, the Shindig Festival offers something for everyone. Get lost in the rhythms of world-class DJs\, dance to the beats of live bands\, or simply soak up the atmosphere with a refreshing drink in hand. \nBut the Shindig Festival is not just about music. There are also a variety of workshops and activities for attendees to engage in\, such as yoga\, circus skills\, and creative arts. There is even a dedicated space for families\, with kid-friendly entertainment and activities to keep the little ones entertained. \nAnd let’s not forget about the food! The Shindig Festival features a diverse range of food and drink options\, including locally-sourced and organic produce\, ensuring that there is something to suit all dietary requirements. \nLocated in a stunning setting with breathtaking views\, the Shindig Festival is the perfect destination for anyone looking to let loose and have some fun. So\, come and join the festivities and experience the magic of the Shindig Festival for yourself! \n \nBuy Your Shindig Tickets Below
URL:https://festivalessentials.uk/event/shindig-festival-2023/
LOCATION:Dillion Estate\, Dillington Estate\, Somerset\, United Kingdom
CATEGORIES:Dance Music,Folk Festival,indie,Music
ATTACH;FMTTYPE=image/webp:https://festivalessentials.uk/wp-content/uploads/2023/03/Shindig-Festival-2023.webp
END:VEVENT
END:VCALENDAR